BEGIN:VCALENDAR
VERSION:2.0
PRODID:-//Snowy Wings Publishing - ECPv6.15.18//NONSGML v1.0//EN
CALSCALE:GREGORIAN
METHOD:PUBLISH
X-ORIGINAL-URL:https://www.snowywingspublishing.com
X-WR-CALDESC:Events for Snowy Wings Publishing
REFRESH-INTERVAL;VALUE=DURATION:PT1H
X-Robots-Tag:noindex
X-PUBLISHED-TTL:PT1H
BEGIN:VTIMEZONE
TZID:America/Chicago
BEGIN:DAYLIGHT
TZOFFSETFROM:-0600
TZOFFSETTO:-0500
TZNAME:CDT
DTSTART:20200308T080000
END:DAYLIGHT
BEGIN:STANDARD
TZOFFSETFROM:-0500
TZOFFSETTO:-0600
TZNAME:CST
DTSTART:20201101T070000
END:STANDARD
BEGIN:DAYLIGHT
TZOFFSETFROM:-0600
TZOFFSETTO:-0500
TZNAME:CDT
DTSTART:20210314T080000
END:DAYLIGHT
BEGIN:STANDARD
TZOFFSETFROM:-0500
TZOFFSETTO:-0600
TZNAME:CST
DTSTART:20211107T070000
END:STANDARD
BEGIN:DAYLIGHT
TZOFFSETFROM:-0600
TZOFFSETTO:-0500
TZNAME:CDT
DTSTART:20220313T080000
END:DAYLIGHT
BEGIN:STANDARD
TZOFFSETFROM:-0500
TZOFFSETTO:-0600
TZNAME:CST
DTSTART:20221106T070000
END:STANDARD
END:VTIMEZONE
BEGIN:VEVENT
DTSTART;TZID=America/Chicago:20211115T130000
DTEND;TZID=America/Chicago:20211115T140000
DTSTAMP:20260420T041836
CREATED:20211031T005209Z
LAST-MODIFIED:20211031T005220Z
UID:4042-1636981200-1636984800@www.snowywingspublishing.com
SUMMARY:Jamie Krakover at St. Louis Jewish Book Festival
DESCRIPTION:Jamie Krakover\, author of Tracker220\, will be a panelist at “Missouri’s Own”\, part of the St. Louis Jewish Book Festival. Six authors will talk about their craft in a panel discussion\, and then break out for a tabling session where you can meet the authors and buy the books directly. The panel portion will also be available for virtual attendance at community.jccstl.org.
URL:https://www.snowywingspublishing.com/event/jamie-krakover-at-st-louis-jewish-book-festival/
LOCATION:SFC Performing Arts Center\, 2 Millstone Campus Dr\, St. Louis\, MO\, 63146\, United States
CATEGORIES:Online Events,Panels & Speaking Engagements,Signings,Workshops
END:VEVENT
END:VCALENDAR