BEGIN:VCALENDAR
VERSION:2.0
PRODID:-//Snowy Wings Publishing - ECPv6.15.18//NONSGML v1.0//EN
CALSCALE:GREGORIAN
METHOD:PUBLISH
X-ORIGINAL-URL:https://www.snowywingspublishing.com
X-WR-CALDESC:Events for Snowy Wings Publishing
REFRESH-INTERVAL;VALUE=DURATION:PT1H
X-Robots-Tag:noindex
X-PUBLISHED-TTL:PT1H
BEGIN:VTIMEZONE
TZID:America/Los_Angeles
BEGIN:DAYLIGHT
TZOFFSETFROM:-0800
TZOFFSETTO:-0700
TZNAME:PDT
DTSTART:20200308T100000
END:DAYLIGHT
BEGIN:STANDARD
TZOFFSETFROM:-0700
TZOFFSETTO:-0800
TZNAME:PST
DTSTART:20201101T090000
END:STANDARD
BEGIN:DAYLIGHT
TZOFFSETFROM:-0800
TZOFFSETTO:-0700
TZNAME:PDT
DTSTART:20210314T100000
END:DAYLIGHT
BEGIN:STANDARD
TZOFFSETFROM:-0700
TZOFFSETTO:-0800
TZNAME:PST
DTSTART:20211107T090000
END:STANDARD
BEGIN:DAYLIGHT
TZOFFSETFROM:-0800
TZOFFSETTO:-0700
TZNAME:PDT
DTSTART:20220313T100000
END:DAYLIGHT
BEGIN:STANDARD
TZOFFSETFROM:-0700
TZOFFSETTO:-0800
TZNAME:PST
DTSTART:20221106T090000
END:STANDARD
END:VTIMEZONE
BEGIN:VEVENT
DTSTART;VALUE=DATE:20211007
DTEND;VALUE=DATE:20211011
DTSTAMP:20260422T031552
CREATED:20210911T220836Z
LAST-MODIFIED:20210911T220836Z
UID:3893-1633564800-1633910399@www.snowywingspublishing.com
SUMMARY:Mary Fan at New York Comic Con
DESCRIPTION:Mary Fan\, author of the Starswept trilogy and the Fated Stars series\, will be selling and signing her books in Artists’ Alley at New York Comic Con.
URL:https://www.snowywingspublishing.com/event/mary-fan-at-new-york-comic-con/
LOCATION:Javits Center\, 429 11th Ave\, New York\, NY\, 10001\, United States
CATEGORIES:Signings
END:VEVENT
END:VCALENDAR